BEGIN:VCALENDAR
VERSION:2.0
PRODID:-//PYVOBJECT//NONSGML Version 0.9.9//EN
X-WR-TIMEZONE:Africa/Johannesburg
BEGIN:VTIMEZONE
TZID:Africa/Johannesburg
BEGIN:STANDARD
DTSTART:20000101T000000
RRULE:FREQ=YEARLY;BYMONTH=1
TZNAME:SAST
TZOFFSETFROM:+0200
TZOFFSETTO:+0200
END:STANDARD
END:VTIMEZONE
BEGIN:VEVENT
UID:20260423T010231Z - 66480@eos-content
DTSTART;TZID=Africa/Johannesburg:20260424T130000
DTEND;TZID=Africa/Johannesburg:20260424T140000
ATTENDEE:MAILTO:kara.olivier@huntproperties.co.za
ATTENDEE:MAILTO:james.bentham@huntproperties.co.za
ATTENDEE:MAILTO:tj.bate@huntproperties.co.za
ATTENDEE:MAILTO:tarryn.rawlinson@huntproperties.co.za
DESCRIPTION:https://www.huntproperties.co.za/results/residential/for-sale/c
 ape-town/waterfront/apartment/3089620/\n\nContact our HUNT Team should you
  wish to view\n\nKara Olivier (079 992 0664)\n\nJames Bentham (0797366823)
 \n\nTJ Bate (0686969240)\n\nTarryn Rawlinson (0824571474)
DTSTAMP:20260423T010231Z
LOCATION:Waterfront\, Cape Town
SUMMARY:Hunt Properties Show Day - RL5397
END:VEVENT
END:VCALENDAR
